BEGIN:VCALENDAR
VERSION:2.0
PRODID:-//Tischtennis Florian Bluhm - ECPv6.15.20//NONSGML v1.0//EN
CALSCALE:GREGORIAN
METHOD:PUBLISH
X-WR-CALNAME:Tischtennis Florian Bluhm
X-ORIGINAL-URL:https://florianbluhm-tischtennis.de
X-WR-CALDESC:Veranstaltungen für Tischtennis Florian Bluhm
REFRESH-INTERVAL;VALUE=DURATION:PT1H
X-Robots-Tag:noindex
X-PUBLISHED-TTL:PT1H
BEGIN:VTIMEZONE
TZID:UTC
BEGIN:STANDARD
TZOFFSETFROM:+0000
TZOFFSETTO:+0000
TZNAME:UTC
DTSTART:20230101T000000
END:STANDARD
END:VTIMEZONE
BEGIN:VEVENT
DTSTART;TZID=UTC:20250503T094500
DTEND;TZID=UTC:20250504T163000
DTSTAMP:20260421T131915
CREATED:20250213T055648Z
LAST-MODIFIED:20250213T055648Z
UID:242-1746265500-1746376200@florianbluhm-tischtennis.de
SUMMARY:Noppenlehrgang mit Florian Bluhm
DESCRIPTION:futurespin Lehrgänge in der Küchenchef-Arena \nWas erwartet Dich? \n\nFlorian Bluhm & Co-Trainer\nlimitierte Teilnehmerzahl\nerstes Training 10:00-12:30Uhr\nzweites Training 14:00-16:30Uhr\ngemeinsames Mittagessen (Selbstkosten)\nSnacks und Getränke in der Halle\nDuschen und Umkleiden vorhanden\n\n  \nWas Du mitbringen musst: \n\nTischtennisequipment (Schläger\, Schuhe\, usw.)\nIsomatte oder Handtuch für evtl. Kraft-/Dehnübungen\n\n  \nSonstiges: \n\nTeilnehmergebühr: 99€ pro Lehrgangstag\nTreffpunkt: 9:45Uhr\nAdresse:\nWeppersdorf 6a\n91325 Adelsdorf\n\n  \nAnmeldung: \nDu hast Lust auf ein tischtennisreiches Wochenende mit mir?\nDann melde dich über futurespin zu diesem Lehrgang an.\nWir freuen uns auf dich!
URL:https://florianbluhm-tischtennis.de/lehrgang/noppenlehrgang-mit-florian-bluhm-2/
LOCATION:Effeltrich\, Weppendorf 6a\, Adelsdorf\, Bayern\, 91325
CATEGORIES:Lehrgänge
END:VEVENT
BEGIN:VEVENT
DTSTART;TZID=UTC:20250426T094500
DTEND;TZID=UTC:20250427T153000
DTSTAMP:20260421T131915
CREATED:20250213T055128Z
LAST-MODIFIED:20250213T081942Z
UID:240-1745660700-1745767800@florianbluhm-tischtennis.de
SUMMARY:Für und gegen Abwehr
DESCRIPTION:4 Trainingseinheiten an 2 Tagen mit \nDaniel Kleinert & Florian Bluhm \nFokus liegt auf dem Spiel mit und gegen Abwehr \nTraining: \n\nmax. 16 Teilnehmende\nSamstag\n10:00 – 12:30Uhr\n14:00 – 16:30Uhr\nSonntag\n09:00 – 11:30 Uhr\n13:00 – 15:30Uhr\nTrainingsort\nHezenbergstraße 97\n74172 Neckarsulm\n\nWas wir Dir bieten: \n\nWasserversorgung inklusive\nMaterialtest möglich\nGrundlagen des Abwehrspiels\n\nKosten: \n\n1 Tag = 90€\n2 Tage = 150€\n\nAnmeldung: \ntraining@florianbluhm-tischtennis.de\noder\nFormular –  s. unten \n  \nWir freuen uns auf Dich! \n  \n\n\n  \n\n\n\n Dein Name\n \n \n Deine E-Mail-Adresse\n \n \n Lehrgangsdatum\n \n \n Dein Spielsystem\n \n \n Dein TTR-Wert\n \n \n Deine Wünsche und Erwartungen (optional)
URL:https://florianbluhm-tischtennis.de/lehrgang/fuer-und-gegen-abwehr-2/
LOCATION:Hezenberghalle\, Hezenbergstraße 97\, Neckarsulm\, 74172\, Deutschland
CATEGORIES:Lehrgänge
END:VEVENT
BEGIN:VEVENT
DTSTART;TZID=UTC:20241221T094500
DTEND;TZID=UTC:20241222T153000
DTSTAMP:20260421T131916
CREATED:20241017T234103Z
LAST-MODIFIED:20241017T234742Z
UID:230-1734774300-1734881400@florianbluhm-tischtennis.de
SUMMARY:Für und gegen Abwehr
DESCRIPTION:4 Trainingseinheiten an 2 Tagen mit \nDaniel Kleinert & Florian Bluhm \nFokus liegt auf dem Spiel mit und gegen Abwehr \nTraining: \n\nmax. 16 Teilnehmende\nSamstag\n10:00 – 12:30Uhr\n14:00 – 16:30Uhr\nSonntag\n09:00 – 11:30 Uhr\n13:00 – 15:30Uhr\nTrainingsort\nHezenbergstraße 97\n74172 Neckarsulm\n\nWas wir Dir bieten: \n\nWasserversorgung inklusive\nMaterialtest möglich\nGrundlagen des Abwehrspiels\n\nKosten: \n\n1 Tag = 90€\n2 Tage = 150€\n\nAnmeldung: \ntischtennislehrgang2023@gmail.com \noder \ntraining@florianbluhm-tischtennis.de \n  \nWir freuen uns auf Dich! \n 
URL:https://florianbluhm-tischtennis.de/lehrgang/fuer-und-gegen-abwehr/
LOCATION:Hezenberghalle\, Hezenbergstraße 97\, Neckarsulm\, 74172\, Deutschland
CATEGORIES:Lehrgänge
END:VEVENT
BEGIN:VEVENT
DTSTART;TZID=UTC:20241123T094500
DTEND;TZID=UTC:20241124T163000
DTSTAMP:20260421T131916
CREATED:20241017T225134Z
LAST-MODIFIED:20241017T234152Z
UID:209-1732355100-1732465800@florianbluhm-tischtennis.de
SUMMARY:Noppenlehrgang mit Florian Bluhm
DESCRIPTION:futurespin Lehrgänge in der Küchenchef-Arena \nWas erwartet Dich? \n\nFlorian Bluhm & Co-Trainer\nlimitierte Teilnehmerzahl\nerstes Training 10:00-12:30Uhr\nzweites Training 14:00-16:30Uhr\ngemeinsames Mittagessen (Selbstkosten)\nSnacks und Getränke in der Halle\nDuschen und Umkleiden vorhanden\n\n  \nWas Du mitbringen musst: \n\nTischtennisequipment (Schläger\, Schuhe\, usw.)\nIsomatte oder Handtuch für evtl. Kraft-/Dehnübungen\n\n  \nSonstiges: \n\nTeilnehmergebühr: 99€ pro Lehrgangstag\nTreffpunkt: 9:45Uhr\nAdresse:\nWeppersdorf 6a\n91325 Adelsdorf\n\n  \nAnmeldung: \nDu hast Lust auf ein tischtennisreiches Wochenende mit mir?\nDann melde dich über futurespin zu diesem Lehrgang an.\nWir freuen uns auf dich! \n 
URL:https://florianbluhm-tischtennis.de/lehrgang/noppenlehrgang-mit-florian-bluhm/
LOCATION:Effeltrich\, Weppendorf 6a\, Adelsdorf\, Bayern\, 91325
CATEGORIES:Lehrgänge
END:VEVENT
BEGIN:VEVENT
DTSTART;TZID=UTC:20240908T100000
DTEND;TZID=UTC:20240908T170000
DTSTAMP:20260421T131916
CREATED:20240827T125040Z
LAST-MODIFIED:20240907T064357Z
UID:99-1725789600-1725814800@florianbluhm-tischtennis.de
SUMMARY:Tageslehrgang für und gegen Abwehr
DESCRIPTION:Das erwartet Dich: \n\n2 Trainingseinheiten an einem Tag mit Hongi und mir\n\n10:00Uhr – 12:30Uhr\n14:00Uhr – 16:30Uhr \n\nWasserversorgung inklusive\nMaterialtests möglich\nGrundlagen des Abwehrspiels\nGrundlagen des Angriffsspiels gegen Abwehr\n\n  \nMaximal 16 Teilnehmende \n30€ Anzahlung \n  \nAnmelden kannst Du dich per e-Mail Training@florianbluhm-tischtennis.de oder über das nachfolgende Anmeldeformular. \nAnmeldeformular: \n\n\n  \n\n\n\n Dein Name\n \n \n Deine E-Mail-Adresse\n \n \n Lehrgangsdatum\n \n \n Dein Spielsystem\n \n \n Dein TTR-Wert\n \n \n Deine Wünsche und Erwartungen (optional)\n \n \n\n \n\n\n\n 
URL:https://florianbluhm-tischtennis.de/lehrgang/tageslehrgang-fuer-und-gegen-abwehr/
LOCATION:Hezenberghalle\, Hezenbergstraße 97\, Neckarsulm\, 74172\, Deutschland
END:VEVENT
END:VCALENDAR